Workbook

Sheet 000000

Sheet 手引き
B2: 宮崎県中学校秋季体育大会・陸上競技 申込書（クラブ用）
B3: 注意事項等
B5: （１） シートは以下の３つがあります。（このシートを除く）
B6: ①データ
B7: ②選手登録
B8: ③提出用
B11: （２） 「①データ」シートに | G11: のような黄色のセルがあります。このセルに
B12: 必要事項を記入してください。ただし、黄色のセルにカーソルを移動すると、ドロ
B13: ップダウンリストが表示される場合があります。
B14: なお、「①データ」シートを入力すると、一部が自動的に「③提出用」シートに反
B15: 映されます。転記された内容に誤りがないか必ず確認してください。
B18: （３） 「②選手登録」シートに、アスリートビブス・氏名・学年・資格記録を入力して
B19: ください。ただし、予選記録は以下を参考に入力してください。
B20: （例）12秒05 → 1205 9分3秒20 → 90320 1m52 → 152
B23: （４） 入力・確認の後、「③提出用」シートを印刷します。
B24: 各チーム代表者の印を押し、所定の場所（県中体連事務局）へ提出してください。
B27: ※ まずはWebEntryシステムで申込を行います。その後、システム内で作成したデ
B28: ータをダウンロードし、そのデータをこの申込書に貼付してください。なお、こ
B29: の申込書をメールで送信する必要はありません。

Sheet ①ﾃﾞｰﾀ
B2: 宮崎県中学校秋季体育大会 陸上競技（クラブ用）
B3: データ入力シート
B5: チーム名
B6: 男子 | C6: 監督 | D6: 氏名
D7: 連絡先 （携帯）
C8: コーチ | D8: 氏名
C9: 引率責任者名
B10: 女子 | C10: 監督 | D10: 氏名
D11: 連絡先 （携帯）
C12: コーチ | D12: 氏名
C13: 引率責任者名
B14: 申込 提出日 | D14: 令和 | F14: 年 | H14: 月 | J14: 日

Sheet ②男子選手登録
A1: 選手登録シート（男子）
A2: ※WebEntryシステム内で作成したデータをダウンロードし、下記へ貼付してください。
A3: NO | B3: ｱｽﾘｰﾄ ﾋﾞﾌﾞｽ | C3: 氏名 | D3: 学年 | E3: 学校名 | F3: 種目１ | K3: 種目２ | P3: リレー
F4: 種目名 | G4: 資格記録 (参考記録) | H4: 資格取得 | K4: 種目名 | L4: 資格記録 (参考記録) | M4: 資格取得 | P4: 4×100mR
H5: 月 | I5: 日 | J5: 大会名 | M5: 月 | N5: 日 | O5: 大会名
A6: 1
A7: 2
A8: 3
A9: 4
A10: 5
A11: 6
A12: 7
A13: 8
A14: 9
A15: 10
A16: 11
A17: 12
... A55: 50

Sheet ②女子選手登録
A1: 選手登録シート（女子）
A2: ※WebEntryシステム内で作成したデータをダウンロードし、下記へ貼付してください。
A3: NO | B3: ｱｽﾘｰﾄ ﾋﾞﾌﾞｽ | C3: 氏名 | D3: 学年 | E3: 学校名 | F3: 種目１ | K3: 種目２ | P3: リレー
F4: 種目名 | G4: 資格記録 (参考記録) | H4: 資格取得 | K4: 種目名 | L4: 資格記録 (参考記録) | M4: 資格取得 | P4: 4×100mR
H5: 月 | I5: 日 | J5: 大会名 | M5: 月 | N5: 日 | O5: 大会名
A6: 1
A7: 2
A8: 3
A9: 4
A10: 5
A11: 6
A12: 7
A13: 8
A14: 9
A15: 10
A16: 11
A17: 12
... A55: 50

Sheet ③男子提出用
A1: ="令和"&DBCS(YEAR(TODAY())-2018)&"年度 "&"宮崎県中学校秋季体育大会陸上競技 申込書" -> 令和８年度 宮崎県中学校秋季体育大会陸上競技 申込書
A2: 【 地域クラブ別一覧表（男子） 】
A4: ﾁｰﾑ名 | B4: =IF(①ﾃﾞｰﾀ!D5="","",①ﾃﾞｰﾀ!D5)
A5: 監督名 | B5: =IF(①ﾃﾞｰﾀ!E6="","",①ﾃﾞｰﾀ!E6&"("&①ﾃﾞｰﾀ!E7&")") | E5: コーチ名 | F5: =IF(①ﾃﾞｰﾀ!E8="","",①ﾃﾞｰﾀ!E8) | H5: 引率責任者 | J5: =IF(①ﾃﾞｰﾀ!E9="","",①ﾃﾞｰﾀ!E9)
F7: 下記の者は、本チームの生徒であり、標記大会に参加することを認めます。
D8: =IF(①ﾃﾞｰﾀ!I14="","令和 年 月 日","令和"&DBCS(①ﾃﾞｰﾀ!E14)&"年"&DBCS(①ﾃﾞｰﾀ!G14)&"月"&DBCS(①ﾃﾞｰﾀ!I14)&"日") -> 令和 年 月 日 | K8: =IF(①ﾃﾞｰﾀ!D5="","",①ﾃﾞｰﾀ!D5&" 監督") | M8: =IF(①ﾃﾞｰﾀ!E6="","",①ﾃﾞｰﾀ!E6)
A11: NO | B11: ｱｽﾘｰﾄ ﾋﾞﾌﾞｽ | C11: 氏名 | D11: 学年 | E11: 学校名 | F11: 種目１ | K11: 種目２ | P11: リレー
F12: 種目名 | G12: 資格記録 (参考記録) | H12: 資格取得 | K12: 種目名 | L12: 資格記録 (参考記録) | M12: 資格取得 | P12: 4×100mR
H13: 月 | I13: 日 | J13: 大会名 | M13: 月 | N13: 日 | O13: 大会名
A14: 1 | B14: =IF(②男子選手登録!B6="","",②男子選手登録!B6) | C14: =IF(②男子選手登録!C6="","",②男子選手登録!C6) | D14: =IF(②男子選手登録!D6="","",②男子選手登録!D6) | E14: =IF(②男子選手登録!E6="","",②男子選手登録!E6) | F14: =IF(②男子選手登録!F6="","",②男子選手登録!F6) | G14: =IF(②男子選手登録!G6="","",②男子選手登録!G6) | H14: =IF(②男子選手登録!H6="","",②男子選手登録!H6) | I14: =IF(②男子選手登録!I6="","",②男子選手登録!I6) | ... P14: =IF(②男子選手登録!P6="","",②男子選手登録!P6)
A15: 2 | B15: =IF(②男子選手登録!B7="","",②男子選手登録!B7) | C15: =IF(②男子選手登録!C7="","",②男子選手登録!C7) | D15: =IF(②男子選手登録!D7="","",②男子選手登録!D7) | E15: =IF(②男子選手登録!E7="","",②男子選手登録!E7) | F15: =IF(②男子選手登録!F7="","",②男子選手登録!F7) | G15: =IF(②男子選手登録!G7="","",②男子選手登録!G7) | H15: =IF(②男子選手登録!H7="","",②男子選手登録!H7) | I15: =IF(②男子選手登録!I7="","",②男子選手登録!I7) | ... P15: =IF(②男子選手登録!P7="","",②男子選手登録!P7)
A16: 3 | B16: =IF(②男子選手登録!B8="","",②男子選手登録!B8) | C16: =IF(②男子選手登録!C8="","",②男子選手登録!C8) | D16: =IF(②男子選手登録!D8="","",②男子選手登録!D8) | E16: =IF(②男子選手登録!E8="","",②男子選手登録!E8) | F16: =IF(②男子選手登録!F8="","",②男子選手登録!F8) | G16: =IF(②男子選手登録!G8="","",②男子選手登録!G8) | H16: =IF(②男子選手登録!H8="","",②男子選手登録!H8) | I16: =IF(②男子選手登録!I8="","",②男子選手登録!I8) | ... P16: =IF(②男子選手登録!P8="","",②男子選手登録!P8)
A17: 4 | B17: =IF(②男子選手登録!B9="","",②男子選手登録!B9) | C17: =IF(②男子選手登録!C9="","",②男子選手登録!C9) | D17: =IF(②男子選手登録!D9="","",②男子選手登録!D9) | E17: =IF(②男子選手登録!E9="","",②男子選手登録!E9) | F17: =IF(②男子選手登録!F9="","",②男子選手登録!F9) | G17: =IF(②男子選手登録!G9="","",②男子選手登録!G9) | H17: =IF(②男子選手登録!H9="","",②男子選手登録!H9) | I17: =IF(②男子選手登録!I9="","",②男子選手登録!I9) | ... P17: =IF(②男子選手登録!P9="","",②男子選手登録!P9)
A18: 5 | B18: =IF(②男子選手登録!B10="","",②男子選手登録!B10) | C18: =IF(②男子選手登録!C10="","",②男子選手登録!C10) | D18: =IF(②男子選手登録!D10="","",②男子選手登録!D10) | E18: =IF(②男子選手登録!E10="","",②男子選手登録!E10) | F18: =IF(②男子選手登録!F10="","",②男子選手登録!F10) | G18: =IF(②男子選手登録!G10="","",②男子選手登録!G10) | H18: =IF(②男子選手登録!H10="","",②男子選手登録!H10) | I18: =IF(②男子選手登録!I10="","",②男子選手登録!I10) | ... P18: =IF(②男子選手登録!P10="","",②男子選手登録!P10)
A19: 6 | B19: =IF(②男子選手登録!B11="","",②男子選手登録!B11) | C19: =IF(②男子選手登録!C11="","",②男子選手登録!C11) | D19: =IF(②男子選手登録!D11="","",②男子選手登録!D11) | E19: =IF(②男子選手登録!E11="","",②男子選手登録!E11) | F19: =IF(②男子選手登録!F11="","",②男子選手登録!F11) | G19: =IF(②男子選手登録!G11="","",②男子選手登録!G11) | H19: =IF(②男子選手登録!H11="","",②男子選手登録!H11) | I19: =IF(②男子選手登録!I11="","",②男子選手登録!I11) | ... P19: =IF(②男子選手登録!P11="","",②男子選手登録!P11)
A20: 7 | B20: =IF(②男子選手登録!B12="","",②男子選手登録!B12) | C20: =IF(②男子選手登録!C12="","",②男子選手登録!C12) | D20: =IF(②男子選手登録!D12="","",②男子選手登録!D12) | E20: =IF(②男子選手登録!E12="","",②男子選手登録!E12) | F20: =IF(②男子選手登録!F12="","",②男子選手登録!F12) | G20: =IF(②男子選手登録!G12="","",②男子選手登録!G12) | H20: =IF(②男子選手登録!H12="","",②男子選手登録!H12) | I20: =IF(②男子選手登録!I12="","",②男子選手登録!I12) | ... P20: =IF(②男子選手登録!P12="","",②男子選手登録!P12)
A21: 8 | B21: =IF(②男子選手登録!B13="","",②男子選手登録!B13) | C21: =IF(②男子選手登録!C13="","",②男子選手登録!C13) | D21: =IF(②男子選手登録!D13="","",②男子選手登録!D13) | E21: =IF(②男子選手登録!E13="","",②男子選手登録!E13) | F21: =IF(②男子選手登録!F13="","",②男子選手登録!F13) | G21: =IF(②男子選手登録!G13="","",②男子選手登録!G13) | H21: =IF(②男子選手登録!H13="","",②男子選手登録!H13) | I21: =IF(②男子選手登録!I13="","",②男子選手登録!I13) | ... P21: =IF(②男子選手登録!P13="","",②男子選手登録!P13)
A22: 9 | B22: =IF(②男子選手登録!B14="","",②男子選手登録!B14) | C22: =IF(②男子選手登録!C14="","",②男子選手登録!C14) | D22: =IF(②男子選手登録!D14="","",②男子選手登録!D14) | E22: =IF(②男子選手登録!E14="","",②男子選手登録!E14) | F22: =IF(②男子選手登録!F14="","",②男子選手登録!F14) | G22: =IF(②男子選手登録!G14="","",②男子選手登録!G14) | H22: =IF(②男子選手登録!H14="","",②男子選手登録!H14) | I22: =IF(②男子選手登録!I14="","",②男子選手登録!I14) | ... P22: =IF(②男子選手登録!P14="","",②男子選手登録!P14)
A23: 10 | B23: =IF(②男子選手登録!B15="","",②男子選手登録!B15) | C23: =IF(②男子選手登録!C15="","",②男子選手登録!C15) | D23: =IF(②男子選手登録!D15="","",②男子選手登録!D15) | E23: =IF(②男子選手登録!E15="","",②男子選手登録!E15) | F23: =IF(②男子選手登録!F15="","",②男子選手登録!F15) | G23: =IF(②男子選手登録!G15="","",②男子選手登録!G15) | H23: =IF(②男子選手登録!H15="","",②男子選手登録!H15) | I23: =IF(②男子選手登録!I15="","",②男子選手登録!I15) | ... P23: =IF(②男子選手登録!P15="","",②男子選手登録!P15)
A24: 11 | B24: =IF(②男子選手登録!B16="","",②男子選手登録!B16) | C24: =IF(②男子選手登録!C16="","",②男子選手登録!C16) | D24: =IF(②男子選手登録!D16="","",②男子選手登録!D16) | E24: =IF(②男子選手登録!E16="","",②男子選手登録!E16) | F24: =IF(②男子選手登録!F16="","",②男子選手登録!F16) | G24: =IF(②男子選手登録!G16="","",②男子選手登録!G16) | H24: =IF(②男子選手登録!H16="","",②男子選手登録!H16) | I24: =IF(②男子選手登録!I16="","",②男子選手登録!I16) | ... P24: =IF(②男子選手登録!P16="","",②男子選手登録!P16)
A25: 12 | B25: =IF(②男子選手登録!B17="","",②男子選手登録!B17) | C25: =IF(②男子選手登録!C17="","",②男子選手登録!C17) | D25: =IF(②男子選手登録!D17="","",②男子選手登録!D17) | E25: =IF(②男子選手登録!E17="","",②男子選手登録!E17) | F25: =IF(②男子選手登録!F17="","",②男子選手登録!F17) | G25: =IF(②男子選手登録!G17="","",②男子選手登録!G17) | H25: =IF(②男子選手登録!H17="","",②男子選手登録!H17) | I25: =IF(②男子選手登録!I17="","",②男子選手登録!I17) | ... P25: =IF(②男子選手登録!P17="","",②男子選手登録!P17)
... A63: 50 | B63: =IF(②男子選手登録!B55="","",②男子選手登録!B55) | C63: =IF(②男子選手登録!C55="","",②男子選手登録!C55) | D63: =IF(②男子選手登録!D55="","",②男子選手登録!D55) | E63: =IF(②男子選手登録!E55="","",②男子選手登録!E55) | F63: =IF(②男子選手登録!F55="","",②男子選手登録!F55) | G63: =IF(②男子選手登録!G55="","",②男子選手登録!G55) | H63: =IF(②男子選手登録!H55="","",②男子選手登録!H55) | I63: =IF(②男子選手登録!I55="","",②男子選手登録!I55) | ... P63: =IF(②男子選手登録!P55="","",②男子選手登録!P55)

Sheet ③女子提出用
A1: ="令和"&DBCS(YEAR(TODAY())-2018)&"年度 "&"宮崎県中学校秋季体育大会陸上競技 申込書" -> 令和８年度 宮崎県中学校秋季体育大会陸上競技 申込書
A2: 【 地域クラブ別一覧表（女子） 】
A4: ﾁｰﾑ名 | B4: =IF(①ﾃﾞｰﾀ!D5="","",①ﾃﾞｰﾀ!D5)
A5: 監督名 | B5: =IF(①ﾃﾞｰﾀ!E10="","",①ﾃﾞｰﾀ!E10&"("&①ﾃﾞｰﾀ!E11&")") | E5: コーチ名 | F5: =IF(①ﾃﾞｰﾀ!E12="","",①ﾃﾞｰﾀ!E12) | H5: 引率責任者 | J5: =IF(①ﾃﾞｰﾀ!E13="","",①ﾃﾞｰﾀ!E13)
F7: 下記の者は、本チームの生徒であり、標記大会に参加することを認めます。
D8: =IF(①ﾃﾞｰﾀ!I14="","令和 年 月 日","令和"&DBCS(①ﾃﾞｰﾀ!E14)&"年"&DBCS(①ﾃﾞｰﾀ!G14)&"月"&DBCS(①ﾃﾞｰﾀ!I14)&"日") -> 令和 年 月 日 | K8: =IF(①ﾃﾞｰﾀ!D5="","",①ﾃﾞｰﾀ!D5&" 監督") | M8: =IF(①ﾃﾞｰﾀ!E10="","",①ﾃﾞｰﾀ!E10)
A11: NO | B11: ｱｽﾘｰﾄ ﾋﾞﾌﾞｽ | C11: 氏名 | D11: 学年 | E11: 学校名 | F11: 種目１ | K11: 種目２ | P11: リレー
F12: 種目名 | G12: 資格記録 (参考記録) | H12: 資格取得 | K12: 種目名 | L12: 資格記録 (参考記録) | M12: 資格取得 | P12: 4×100mR
H13: 月 | I13: 日 | J13: 大会名 | M13: 月 | N13: 日 | O13: 大会名
A14: 1 | B14: =IF(②女子選手登録!B6="","",②女子選手登録!B6) | C14: =IF(②女子選手登録!C6="","",②女子選手登録!C6) | D14: =IF(②女子選手登録!D6="","",②女子選手登録!D6) | E14: =IF(②女子選手登録!E6="","",②女子選手登録!E6) | F14: =IF(②女子選手登録!F6="","",②女子選手登録!F6) | G14: =IF(②女子選手登録!G6="","",②女子選手登録!G6) | H14: =IF(②女子選手登録!H6="","",②女子選手登録!H6) | I14: =IF(②女子選手登録!I6="","",②女子選手登録!I6) | ... P14: =IF(②女子選手登録!P6="","",②女子選手登録!P6)
A15: 2 | B15: =IF(②女子選手登録!B7="","",②女子選手登録!B7) | C15: =IF(②女子選手登録!C7="","",②女子選手登録!C7) | D15: =IF(②女子選手登録!D7="","",②女子選手登録!D7) | E15: =IF(②女子選手登録!E7="","",②女子選手登録!E7) | F15: =IF(②女子選手登録!F7="","",②女子選手登録!F7) | G15: =IF(②女子選手登録!G7="","",②女子選手登録!G7) | H15: =IF(②女子選手登録!H7="","",②女子選手登録!H7) | I15: =IF(②女子選手登録!I7="","",②女子選手登録!I7) | ... P15: =IF(②女子選手登録!P7="","",②女子選手登録!P7)
A16: 3 | B16: =IF(②女子選手登録!B8="","",②女子選手登録!B8) | C16: =IF(②女子選手登録!C8="","",②女子選手登録!C8) | D16: =IF(②女子選手登録!D8="","",②女子選手登録!D8) | E16: =IF(②女子選手登録!E8="","",②女子選手登録!E8) | F16: =IF(②女子選手登録!F8="","",②女子選手登録!F8) | G16: =IF(②女子選手登録!G8="","",②女子選手登録!G8) | H16: =IF(②女子選手登録!H8="","",②女子選手登録!H8) | I16: =IF(②女子選手登録!I8="","",②女子選手登録!I8) | ... P16: =IF(②女子選手登録!P8="","",②女子選手登録!P8)
A17: 4 | B17: =IF(②女子選手登録!B9="","",②女子選手登録!B9) | C17: =IF(②女子選手登録!C9="","",②女子選手登録!C9) | D17: =IF(②女子選手登録!D9="","",②女子選手登録!D9) | E17: =IF(②女子選手登録!E9="","",②女子選手登録!E9) | F17: =IF(②女子選手登録!F9="","",②女子選手登録!F9) | G17: =IF(②女子選手登録!G9="","",②女子選手登録!G9) | H17: =IF(②女子選手登録!H9="","",②女子選手登録!H9) | I17: =IF(②女子選手登録!I9="","",②女子選手登録!I9) | ... P17: =IF(②女子選手登録!P9="","",②女子選手登録!P9)
A18: 5 | B18: =IF(②女子選手登録!B10="","",②女子選手登録!B10) | C18: =IF(②女子選手登録!C10="","",②女子選手登録!C10) | D18: =IF(②女子選手登録!D10="","",②女子選手登録!D10) | E18: =IF(②女子選手登録!E10="","",②女子選手登録!E10) | F18: =IF(②女子選手登録!F10="","",②女子選手登録!F10) | G18: =IF(②女子選手登録!G10="","",②女子選手登録!G10) | H18: =IF(②女子選手登録!H10="","",②女子選手登録!H10) | I18: =IF(②女子選手登録!I10="","",②女子選手登録!I10) | ... P18: =IF(②女子選手登録!P10="","",②女子選手登録!P10)
A19: 6 | B19: =IF(②女子選手登録!B11="","",②女子選手登録!B11) | C19: =IF(②女子選手登録!C11="","",②女子選手登録!C11) | D19: =IF(②女子選手登録!D11="","",②女子選手登録!D11) | E19: =IF(②女子選手登録!E11="","",②女子選手登録!E11) | F19: =IF(②女子選手登録!F11="","",②女子選手登録!F11) | G19: =IF(②女子選手登録!G11="","",②女子選手登録!G11) | H19: =IF(②女子選手登録!H11="","",②女子選手登録!H11) | I19: =IF(②女子選手登録!I11="","",②女子選手登録!I11) | ... P19: =IF(②女子選手登録!P11="","",②女子選手登録!P11)
A20: 7 | B20: =IF(②女子選手登録!B12="","",②女子選手登録!B12) | C20: =IF(②女子選手登録!C12="","",②女子選手登録!C12) | D20: =IF(②女子選手登録!D12="","",②女子選手登録!D12) | E20: =IF(②女子選手登録!E12="","",②女子選手登録!E12) | F20: =IF(②女子選手登録!F12="","",②女子選手登録!F12) | G20: =IF(②女子選手登録!G12="","",②女子選手登録!G12) | H20: =IF(②女子選手登録!H12="","",②女子選手登録!H12) | I20: =IF(②女子選手登録!I12="","",②女子選手登録!I12) | ... P20: =IF(②女子選手登録!P12="","",②女子選手登録!P12)
A21: 8 | B21: =IF(②女子選手登録!B13="","",②女子選手登録!B13) | C21: =IF(②女子選手登録!C13="","",②女子選手登録!C13) | D21: =IF(②女子選手登録!D13="","",②女子選手登録!D13) | E21: =IF(②女子選手登録!E13="","",②女子選手登録!E13) | F21: =IF(②女子選手登録!F13="","",②女子選手登録!F13) | G21: =IF(②女子選手登録!G13="","",②女子選手登録!G13) | H21: =IF(②女子選手登録!H13="","",②女子選手登録!H13) | I21: =IF(②女子選手登録!I13="","",②女子選手登録!I13) | ... P21: =IF(②女子選手登録!P13="","",②女子選手登録!P13)
A22: 9 | B22: =IF(②女子選手登録!B14="","",②女子選手登録!B14) | C22: =IF(②女子選手登録!C14="","",②女子選手登録!C14) | D22: =IF(②女子選手登録!D14="","",②女子選手登録!D14) | E22: =IF(②女子選手登録!E14="","",②女子選手登録!E14) | F22: =IF(②女子選手登録!F14="","",②女子選手登録!F14) | G22: =IF(②女子選手登録!G14="","",②女子選手登録!G14) | H22: =IF(②女子選手登録!H14="","",②女子選手登録!H14) | I22: =IF(②女子選手登録!I14="","",②女子選手登録!I14) | ... P22: =IF(②女子選手登録!P14="","",②女子選手登録!P14)
A23: 10 | B23: =IF(②女子選手登録!B15="","",②女子選手登録!B15) | C23: =IF(②女子選手登録!C15="","",②女子選手登録!C15) | D23: =IF(②女子選手登録!D15="","",②女子選手登録!D15) | E23: =IF(②女子選手登録!E15="","",②女子選手登録!E15) | F23: =IF(②女子選手登録!F15="","",②女子選手登録!F15) | G23: =IF(②女子選手登録!G15="","",②女子選手登録!G15) | H23: =IF(②女子選手登録!H15="","",②女子選手登録!H15) | I23: =IF(②女子選手登録!I15="","",②女子選手登録!I15) | ... P23: =IF(②女子選手登録!P15="","",②女子選手登録!P15)
A24: 11 | B24: =IF(②女子選手登録!B16="","",②女子選手登録!B16) | C24: =IF(②女子選手登録!C16="","",②女子選手登録!C16) | D24: =IF(②女子選手登録!D16="","",②女子選手登録!D16) | E24: =IF(②女子選手登録!E16="","",②女子選手登録!E16) | F24: =IF(②女子選手登録!F16="","",②女子選手登録!F16) | G24: =IF(②女子選手登録!G16="","",②女子選手登録!G16) | H24: =IF(②女子選手登録!H16="","",②女子選手登録!H16) | I24: =IF(②女子選手登録!I16="","",②女子選手登録!I16) | ... P24: =IF(②女子選手登録!P16="","",②女子選手登録!P16)
A25: 12 | B25: =IF(②女子選手登録!B17="","",②女子選手登録!B17) | C25: =IF(②女子選手登録!C17="","",②女子選手登録!C17) | D25: =IF(②女子選手登録!D17="","",②女子選手登録!D17) | E25: =IF(②女子選手登録!E17="","",②女子選手登録!E17) | F25: =IF(②女子選手登録!F17="","",②女子選手登録!F17) | G25: =IF(②女子選手登録!G17="","",②女子選手登録!G17) | H25: =IF(②女子選手登録!H17="","",②女子選手登録!H17) | I25: =IF(②女子選手登録!I17="","",②女子選手登録!I17) | ... P25: =IF(②女子選手登録!P17="","",②女子選手登録!P17)
... A63: 50 | B63: =IF(②女子選手登録!B55="","",②女子選手登録!B55) | C63: =IF(②女子選手登録!C55="","",②女子選手登録!C55) | D63: =IF(②女子選手登録!D55="","",②女子選手登録!D55) | E63: =IF(②女子選手登録!E55="","",②女子選手登録!E55) | F63: =IF(②女子選手登録!F55="","",②女子選手登録!F55) | G63: =IF(②女子選手登録!G55="","",②女子選手登録!G55) | H63: =IF(②女子選手登録!H55="","",②女子選手登録!H55) | I63: =IF(②女子選手登録!I55="","",②女子選手登録!I55) | ... P63: =IF(②女子選手登録!P55="","",②女子選手登録!P55)
